Workbook

Sheet отчет фин план
IH1: № 6.1-ИП ТС
A2: Отчет об исполнении инвестиционной программы за 2025 год
A3: МУЖЭП с.Онохино
A4: (наименование регулируемой организации)
A6: № п/п | E6: Наименование мероприятия | W6: Год начала реализации мероприятия | AM6: Год окончания реализации мероприятия | BC6: Основные технические характеристики после реализации мероприятия | DA6: Стоимость мероприятий, тыс. руб. (без НДС) | HY6: Примечание
W7: план | AE7: факт | AM7: план | AU7: факт | BC7: Тепловая сеть | CQ7: Тепловая нагрузка, Гкал/ч | DA7: план | DI7: факт
BC8: Условный диаметр, мм | BM8: Пропускная способность, т/ч | BW8: Протяженность (в однотрубном исчислении), км | CG8: Способ прокладки | DI8: Амортизация | DS8: Прибыль, направленная на инвестиции | EC8: Средства, полученные за счет платы за подключение | EM8: Прочие собственные средства | EW8: Экономия расходов | FG8: Расходы на оплату лизинговых платежей по договору финансовой аренды (лизинг) | FQ8: Иные собственные средства | GA8: Привлеченные средства на возвратной основе | GK8: Бюджетные средства по каждой системе централизованного теплоснабжения с выделением расходов концедента на строительство, модернизацию и (или) реконструкцию объекта концессионного соглашения по каждой системе централизованного теплоснабжения при наличии таких расходов | HE8: Прочие источники финансирования | HO8: Всего:
A9: 1 | E9: 2 | W9: 3 | AE9: 4 | AM9: 5 | AU9: 6 | BC9: 7.1 | BM9: 7.2 | BW9: 7.3 | CG9: 7.4 | CQ9: 7.6 | DA9: 8.1 | DI9: 8.2 | DS9: 8.3 | EC9: 8.4 | EM9: 8.5 | EW9: 8.6 | FG9: 8.7 | FQ9: 8.8 | GA9: 8.9 | GK9: 8.10 | HE9: 8.11 | HO9: 8.12 | HY9: 9
A10: Группа 1. Строительство, реконструкция или модернизация объектов в целях подключения потребителей:
A11: Всего по группе 1
A12: Группа 2. Строительство новых объектов системы централизованного теплоснабжения, не связанных с подключением новых потребителей, в том числе строительство новых тепловых сетей
A13: Всего по группе 2
A14: Группа 3. Реконструкция или модернизация существующих объектов в целях снижения уровня износа существующих объектов и (или) поставки энергии от разных источников
A15: 3.1. Реконструкция или модернизация существующих тепловых сетей
A16: 3.1.1 | E16: =#REF! -> #REF! | W16: 2025 | AM16: 2026 | BC16: 300 | BM16: 380 | BW16: 0.0854 | CG16: подземная | DA16: 1433.7992 | HO16: =DI16+DS16+EC16+EM16+EW16+FG16+FQ16+GA16+GK16+HE16 -> 0
A17: 3.1.2 | E17: =#REF! -> #REF! | W17: 2029 | AM17: 2029 | BC17: 65 | BM17: 4.95 | BW17: 0.0224 | CG17: подземная | DA17: 92.64 | HO17: =DI17+DS17+EC17+EM17+EW17+FG17+FQ17+GA17+GK17+HE17 -> 0
A18: 3.1.3 | E18: =#REF! -> #REF! | W18: 2025 | AM18: 2029 | BC18: 300 | BM18: 31.5 | BW18: 0.4054 | CG18: подземная | DA18: 6859.9416 | HO18: =DI18+DS18+EC18+EM18+EW18+FG18+FQ18+GA18+GK18+HE18 -> 0
A19: 3.1.4 | E19: =#REF! -> #REF! | W19: 2025 | AE19: 2025 | AM19: 2025 | AU19: 2026 | BC19: 125 | BM19: 15.6 | BW19: 0.052 | CG19: подземная | DA19: 903.56814 | HO19: =DI19+DS19+EC19+EM19+EW19+FG19+FQ19+GA19+GK19+HE19 -> 0
A20: 3.1.2 | E20: =#REF! -> #REF! | W20: 2029 | AM20: 2029 | BC20: 200 | BM20: 15.6 | BW20: 0.0336 | CG20: подземная | DA20: 329.58 | HO20: =DI20+DS20+EC20+EM20+EW20+FG20+FQ20+GA20+GK20+HE20 -> 0
A21: 3.2. Реконструкция или модернизация существующих объектов системы централизованного теплоснабжения, за исключением тепловых сетей
A22: 3.2.1 | E22: Реконструкция центральной котельной Тюменская область, Тюменски район с.Горьковка ул.Сибирская д.18 | W22: 2027 | AM22: 2029 | CQ22: 4.05 | DA22: 2161.178 | HO22: =DI22+DS22+EC22+EM22+EW22+FG22+FQ22+GA22+GK22+HE22 -> 0
A23: 3.2.2 | E23: Реконструкция котельной многоквартирных жилых домов с.Каменка ул.Новая 30 | W23: 2025 | AM23: 2028 | CQ23: 0.204 | DA23: 369.963 | HO23: =DI23+DS23+EC23+EM23+EW23+FG23+FQ23+GA23+GK23+HE23 -> 0
A24: 3.2.3 | E24: Реконструкция котельной Тюменская область, Тюменский район с.Луговое ул. 60 лет Октября 6, строение 1, | W24: 2027 | AM24: 2027 | CQ24: 0.85 | DA24: 144.16 | HO24: =DI24+DS24+EC24+EM24+EW24+FG24+FQ24+GA24+GK24+HE24 -> 0
A25: 3.2.4 | E25: Реконструкция котельной Тюменская область, Тюменский район с.Кулаково ул. Семеновых 80, строение 1. | W25: 2029 | AM25: 2029 | CQ25: 0.344 | DA25: 144.16 | HO25: =DI25+DS25+EC25+EM25+EW25+FG25+FQ25+GA25+GK25+HE25 -> 0
A26: 3.2.5 | E26: Реконструкция котельной Тюменская область, Тюменский район с.Луговое ул. Школьная д.4 | W26: 2028 | AM26: 2028 | CQ26: 1.344 | DA26: 144.16 | HO26: =DI26+DS26+EC26+EM26+EW26+FG26+FQ26+GA26+GK26+HE26 -> 0
A27: 3.2.6 | E27: Реконструкция котельной Тюменская область, Тюменский район с.Луговое ул. Плодовая 5, строение 1. | W27: 2026 | AM27: 2026 | CQ27: 0.106 | DA27: 144.16 | HO27: =DI27+DS27+EC27+EM27+EW27+FG27+FQ27+GA27+GK27+HE27 -> 0
A28: 3.2.7 | E28: Реконструкция котельной Тюменская область, Тюменский район с.Нариманово ул. Центральная д.24 А | W28: 2025 | AM28: 2029 | CQ28: 0.251 | DA28: 241.25 | HO28: =DI28+DS28+EC28+EM28+EW28+FG28+FQ28+GA28+GK28+HE28 -> 0
A29: 3.2.8 | E29: Реконструкция центральной котельной Тюменская область, Тюменский район п.Новотарманский ул.Рабочая 9 а | W29: 2026 | AM29: 2029 | CQ29: 1.752 | DA29: 3136.0639 | HO29: =DI29+DS29+EC29+EM29+EW29+FG29+FQ29+GA29+GK29+HE29 -> 0
A30: 3.2.9 | E30: Реконструкция котельной Тюменская область, Тюменский район 39 км Салаирского тракта | W30: 2025 | AM30: 2025 | AU30: 2025 | CQ30: 2.752 | DA30: 566.29328 | DI30: 465.78822 | HO30: =DI30+DS30+EC30+EM30+EW30+FG30+FQ30+GA30+GK30+HE30 -> 465.78822
A31: 3.2.10 | E31: Реконструкция котельной 8 ми квартирного жилого дома с.Перевалово ул.Советская д.1 Переваловского СП | W31: 2025 | AM31: 2029 | CQ31: 0.105 | DA31: 162.65724 | HO31: =DI31+DS31+EC31+EM31+EW31+FG31+FQ31+GA31+GK31+HE31 -> 0
A32: 3.2.11 | E32: Реконструкция котельной Тюменская область, Тюменски район с.Онохино ул.8 марта 1 | W32: 2025 | AM32: 2029 | CQ32: 13.94 | DA32: 3041.3587 | HO32: =DI32+DS32+EC32+EM32+EW32+FG32+FQ32+GA32+GK32+HE32 -> 0
A33: 3.2.2 | E33: Реконструкция котельной музея Тюменская область, Тюменский район с. Успенка, ул. Московский тракт, 60 | W33: 2025 | AM33: 2029 | CQ33: 0.086 | DA33: 209.20062 | HO33: =DI33+DS33+EC33+EM33+EW33+FG33+FQ33+GA33+GK33+HE33 -> 0
A34: Всего по группе 3 | W34: х | AE34: х | AM34: х | AU34: х | BC34: х | BM34: х | BW34: х | CG34: х | CQ34: х | DA34: =SUM(DA16:DH33) -> 20084.134 | DI34: =SUM(DI16:DR33) -> 465.78822 | DS34: =SUM(DS16:EB33) -> 0 | EC34: =SUM(EC16:EL33) -> 0 | EM34: =SUM(EM16:EV33) -> 0 | EW34: =SUM(EW16:FF33) -> 0 | FG34: =SUM(FG16:FP33) -> 0 | FQ34: =SUM(FQ16:FZ33) -> 0 | GA34: =SUM(GA16:GJ33) -> 0 | GK34: =SUM(GK16:HD33) -> 0 | HE34: =SUM(HE16:HN33) -> 0 | HO34: =SUM(HO16:HX33) -> 465.78822
A35: Группа 4. Мероприятия, направленные на снижение негативного воздействия на окружающую среду, достижение плановых значений показателей надежности и энергетической эффективности объектов теплоснабжения, повышение эффективности работы систем централизованного теплоснабжения
A36: Всего по группе 4
A37: Группа 5. Вывод из эксплуатации, консервация и демонтаж объектов системы централизованного теплоснабжения
A38: 5.1. Вывод из эксплуатации, консервация и демонтаж тепловых сетей
A39: 5.2. Вывод из эксплуатации, консервация и демонтаж иных объектов системы централизованного теплоснабжения, за исключением тепловых сетей
A40: 5.2.1 | E40: Вывод из эксплуатации котельной Тюменская область, Тюменский район, с.Луговое ул.Луговская 4. | W40: 2025 | AM40: 2025 | AU40: 2025 | CQ40: 0 | DA40: 144.13674 | DI40: =DA40 -> 144.13674 | DS40: 0 | EC40: 0 | EM40: 0 | EW40: 0 | FG40: 0 | FQ40: 0 | GA40: 0 | GK40: 0 | HE40: 0 | HO40: =DS40+EC40+EM40+EW40+FG40+FQ40+GA40+GK40+HE40+DI40 -> 144.13674
A41: Всего по группе 5 | AE41: х | AM41: х | AU41: х | BC41: х | BM41: х | BW41: х | CG41: х | CQ41: х | DA41: =DA40 -> 144.13674 | DI41: =DI40 -> 144.13674 | DS41: 0 | EC41: 0 | EM41: 0 | EW41: 0 | FG41: 0 | FQ41: 0 | GA41: 0 | GK41: 0 | HE41: 0 | HO41: =DS41+EC41+EM41+EW41+FG41+FQ41+GA41+GK41+HE41+DI41 -> 144.13674
...

Sheet отчет дпр
FK1: № 6.2-ИП ТС
A3: Отчет о достижении плановых показателей надежности и энергетической эффективности объектов системы централизованного теплоснабжения за предыдущий год (2025 год)
AC4: МУЖЭП с.Онохино
AC5: (наименование регулируемой организации)
A7: № п/п | H7: Наименование объекта | AB7: Показатели надежности | CF7: Показатели энергетической эффективности
AB8: Количество прекращений подачи тепловой энергии, теплоносителя в результате технологических нарушений на тепловых сетях на 1 км тепловых сетей | BD8: Количество прекращений подачи тепловой энергии, теплоносителя в результате технологических нарушений на источниках тепловой энергии на 1 Гкал/час установленной мощности | CF8: Удельный расход топлива на производство единицы тепловой энергии, отпускаемой с коллекторов источников тепловой энергии (для организаций, эксплуатирующих объекты теплоснабжения на основании концессионного соглашения дополнительно указываются по каждому объекту теплоснабжения) | DH8: Отношение величины технологических потерь тепловой энергии, теплоносителя к материальной характеристике тепловой сети | EJ8: Величина технологических потерь при передаче тепловой энергии, теплоносителя по тепловым сетям (для организаций, эксплуатирующих объекты теплоснабжения на основании концессионного соглашения дополнительно указываются по каждому участку тепловой сети)
AB9: план | AP9: факт | BD9: план | BR9: факт | CF9: план | CT9: факт | DH9: план | DV9: факт | EJ9: план | EX9: факт
A10: 1 | H10: 2 | AB10: 3 | AP10: 4 | BD10: 5 | BR10: 6 | CF10: 7 | CT10: 8 | DH10: 9 | DV10: 10 | EJ10: 11 | EX10: 12
A11: 1 | H11: Система теплоснабжения Горьковского СП | AB11: 0 | AP11: 0 | BD11: 0 | BR11: 0 | CF11: 158.1 | CT11: =[1]Баланс!$K$12 -> 168.35451 | DH11: 1,25/0,93 | DV11: 1,25/0,93 | EJ11: 0,469/0,348 | EX11: 0,469/0,348
A12: 2 | H12: Система теплоснабжения Каменского СП | AB12: 0 | AP12: 0 | BD12: 0 | BR12: 0 | CF12: 159.9 | CT12: =[1]Баланс!$J$14 -> 125.31987 | DH12: 1,44/0,58 | DV12: 1,44/0,58 | EJ12: 0,013/0,005 | EX12: 0,013/0,005
A13: 3 | H13: Система теплоснабжения Кулаковского СП (с.Кулаково, с.Луговое) | AB13: 0 | AP13: 0 | BD13: 0 | BR13: 0 | CF13: 159.6 | CT13: =([1]Баланс!$K$17+[1]Баланс!$K$21)/2 -> 182.56613 | DH13: 1,62/0,67 | DV13: 1,62/067 | EJ13: 0,326/0,135 | EX13: 0,326/0,135
A14: 4 | H14: Система теплоснабжения Наримановского СП | AB14: 0 | AP14: 0 | BD14: 0 | BR14: 0 | CF14: 161.8 | CT14: =[1]Баланс!$K$25 -> 129.98501 | DH14: 1,85/0,52 | DV14: 1,85/0,52 | EJ14: 0,023/0,006 | EX14: 0,023/0,006
A15: 5 | H15: Система теплоснабжения Новотарманского, Салаирского СП | AB15: 0 | AP15: 0 | BD15: 0 | BR15: 0 | CF15: 155.9 | CT15: =[1]Баланс!$K$29 -> 151.88989 | DH15: 1,67/1,26 | DV15: 1,63/1,23 | EJ15: 1,253/0,948 | EX15: 1,224/0,926
A16: 6 | H16: Система теплоснабжения Онохинского СП | AB16: 0 | AP16: 0 | BD16: 0 | BR16: 0 | CF16: 158.2 | CT16: =[1]Баланс!$K$30 -> 179.55776 | DH16: 0,983/1,048 | DV16: 0,972/1,036 | EJ16: 1,813/1,934 | EX16: 1,792/1,911
A17: 7 | H17: Система теплоснабжения Червишевского СП | AB17: 0 | AP17: 0 | BD17: 0 | BR17: 0 | CF17: 151.7 | CT17: =[1]Баланс!$K$54 -> 179.87969 | DH17: 2,21/2,06 | DV17: 2,288/2,133 | EJ17: 1,795/1,672 | EX17: 1,858/1,731
A18: 8 | H18: Система теплоснабжения Переваловского СП | AB18: 0 | AP18: 0 | BD18: 0 | BR18: 0 | CF18: 157.1 | CT18: =[1]Баланс!$K$36 -> 124.74749 | DH18: 1,374/0,745 | DV18: 1,374/0,745 | EJ18: 0,058/0,031 | EX18: 0,058/0,031
A19: 9 | H19: Система теплоснабжения Успенского СП | AB19: 0 | AP19: 0 | BD19: 0 | BR19: 0 | CF19: 157.2 | CT19: =[1]Баланс!$K$46 -> 233.28407 | DH19: 1,36/1,0 | DV19: 1,36/1 | EJ19: 0,739/0,663 | EX19: 0,739/0,663
A21: Директор МУЖЭП с. Онохино ___________________Савина Н.Ф.
A22: М.П. (при наличии)
